BEGIN:VCALENDAR
VERSION:2.0
PRODID:-//Plone.org//NONSGML plone.app.event//EN
X-WR-TIMEZONE:America/Maceio
BEGIN:VEVENT
SUMMARY:Artigos científicos de alto impacto em economia: abrindo a “cai
 xa-preta”
DTSTART;TZID=America/Maceio:20200820T140000
DTEND;TZID=America/Maceio:20201119T150000
DTSTAMP:20260420T184317Z
UID:c528f46f13104e1e8f50791601afc06b@feac.ufal.br
CONTACT:https://doity.com.br/artigos-cientificos-em-revistas-de-alto-impac
 to-em-economia
CREATED:20200921T175034Z
LAST-MODIFIED:20210909T122943Z
URL:https://feac.ufal.br/pt-br/pos-graduacao/mestrado-em-economia-aplicada
 /institucional/informes-1/artigos-cientificos-de-alto-impacto-em-economia-
 abrindo-a-201ccaixa-preta201d
END:VEVENT
BEGIN:VTIMEZONE
TZID:America/Maceio
X-LIC-LOCATION:America/Maceio
BEGIN:STANDARD
DTSTART:20020216T230000
TZNAME:-03
TZOFFSETFROM:-0200
TZOFFSETTO:-0300
END:STANDARD
END:VTIMEZONE
END:VCALENDAR
